BEGIN:VCALENDAR
VERSION:2.0
PRODID:-//OneGov//onegov.event//
BEGIN:VEVENT
SUMMARY:Feldschiessen 
DTSTART:20260528T220000Z
DTEND:20260529T220000Z
DTSTAMP:20251105T081455Z
UID:feldschiessen-1-2026-05-28@onegov.event
CATEGORIES:
DESCRIPTION:Schiesszeiten werden im amtlichen Anzeiger veröffentlicht
LAST-MODIFIED:20251105T081455Z
LOCATION:Schiessplatz Oberlunkhofen
URL:https://www.besenbueren.ch/event/feldschiessen-1-2026-05-28
END:VEVENT
BEGIN:VEVENT
SUMMARY:Feldschiessen 
DTSTART:20260529T220000Z
DTEND:20260530T220000Z
DTSTAMP:20251105T081455Z
UID:feldschiessen-1-2026-05-29@onegov.event
CATEGORIES:
DESCRIPTION:Schiesszeiten werden im amtlichen Anzeiger veröffentlicht
LAST-MODIFIED:20251105T081455Z
LOCATION:Schiessplatz Oberlunkhofen
URL:https://www.besenbueren.ch/event/feldschiessen-1-2026-05-28
END:VEVENT
BEGIN:VEVENT
SUMMARY:Feldschiessen 
DTSTART:20260530T220000Z
DTEND:20260531T220000Z
DTSTAMP:20251105T081455Z
UID:feldschiessen-1-2026-05-30@onegov.event
CATEGORIES:
DESCRIPTION:Schiesszeiten werden im amtlichen Anzeiger veröffentlicht
LAST-MODIFIED:20251105T081455Z
LOCATION:Schiessplatz Oberlunkhofen
URL:https://www.besenbueren.ch/event/feldschiessen-1-2026-05-28
END:VEVENT
END:VCALENDAR
