BEGIN:VCALENDAR
VERSION:2.0
PRODID:-//OneGov//onegov.event//
BEGIN:VEVENT
SUMMARY:1. Schultag im neuen Jahr
DTSTART:20260105T063000Z
DTEND:20260105T160000Z
DTSTAMP:20241022T120146Z
UID:1-schultag-im-neuen-jahr-2026-01-05@onegov.event
CATEGORIES:Education
DESCRIPTION:
LAST-MODIFIED:20241022T120146Z
LOCATION:Schulen Bünzen und Besenbüren
URL:https://www.besenbueren.ch/event/1-schultag-im-neuen-jahr-2026-01-05
END:VEVENT
END:VCALENDAR
