BEGIN:VCALENDAR
VERSION:2.0
PRODID:-//OneGov//onegov.event//
BEGIN:VEVENT
SUMMARY:80 Jahre Chilbischiessen
DTSTART:20261009T060000Z
DTEND:20261009T160000Z
DTSTAMP:20251027T090326Z
UID:80-jahre-chilbischiessen-2026-10-09@onegov.event
CATEGORIES:Youth
DESCRIPTION:
LAST-MODIFIED:20251027T090326Z
LOCATION:Grottenweg in Boswil 
URL:https://www.besenbueren.ch/event/80-jahre-chilbischiessen-2026-10-09
END:VEVENT
END:VCALENDAR
