BEGIN:VCALENDAR
VERSION:2.0
PRODID:-//OneGov//onegov.event//
BEGIN:VEVENT
SUMMARY:Absenden Chilbischiessen
DTSTART:20261016T170000Z
DTEND:20261016T200000Z
DTSTAMP:20251105T081444Z
UID:absenden-chilbischiessen-4-2026-10-16@onegov.event
CATEGORIES:
DESCRIPTION:
LAST-MODIFIED:20251105T081444Z
LOCATION:noch offen
URL:https://www.besenbueren.ch/event/absenden-chilbischiessen-4-2026-10-16
END:VEVENT
END:VCALENDAR
