BEGIN:VCALENDAR
VERSION:2.0
PRODID:-//OneGov//onegov.event//
BEGIN:VEVENT
SUMMARY:Abstimmungstermin
DTSTART:20260614T063000Z
DTEND:20260614T070000Z
DTSTAMP:20250917T064248Z
UID:abstimmungstermin-5-2026-06-14@onegov.event
CATEGORIES:
DESCRIPTION:
LAST-MODIFIED:20250917T064248Z
LOCATION:Gemeinde
URL:https://www.besenbueren.ch/event/abstimmungstermin-5-2026-06-14
END:VEVENT
END:VCALENDAR
