BEGIN:VCALENDAR
VERSION:2.0
PRODID:-//OneGov//onegov.event//
BEGIN:VEVENT
SUMMARY:Abstimmungstermin
DTSTART:20260927T063000Z
DTEND:20260927T070000Z
DTSTAMP:20250917T064319Z
UID:abstimmungstermin-6-2026-09-27@onegov.event
CATEGORIES:
DESCRIPTION:
LAST-MODIFIED:20250917T064319Z
LOCATION:Gemeinde
URL:https://www.besenbueren.ch/event/abstimmungstermin-6-2026-09-27
END:VEVENT
END:VCALENDAR
