BEGIN:VCALENDAR
VERSION:2.0
PRODID:-//OneGov//onegov.event//
BEGIN:VEVENT
SUMMARY:Abstimmungstermin
DTSTART:20261129T073000Z
DTEND:20261129T080000Z
DTSTAMP:20250917T064350Z
UID:abstimmungstermin-7-2026-11-29@onegov.event
CATEGORIES:
DESCRIPTION:
LAST-MODIFIED:20250917T064350Z
LOCATION:Gemeinde
URL:https://www.besenbueren.ch/event/abstimmungstermin-7-2026-11-29
END:VEVENT
END:VCALENDAR
