BEGIN:VCALENDAR
VERSION:2.0
PRODID:-//OneGov//onegov.event//
BEGIN:VEVENT
SUMMARY:Adventsfenster
DTSTART:20261201T160000Z
DTEND:20261201T210000Z
DTSTAMP:20251027T090133Z
UID:adventsfenster-6-2026-12-01@onegov.event
CATEGORIES:
DESCRIPTION:
LAST-MODIFIED:20251027T090133Z
LOCATION:Ganzes Dorf
URL:https://www.besenbueren.ch/event/adventsfenster-6-2026-12-01
END:VEVENT
END:VCALENDAR
