BEGIN:VCALENDAR
VERSION:2.0
PRODID:-//OneGov//onegov.event//
BEGIN:VEVENT
SUMMARY:Adventsfenster-Rundgang mit Umtrunk
DTSTART:20261227T160000Z
DTEND:20261227T190000Z
DTSTAMP:20251027T090126Z
UID:adventsfenster-rundgang-mit-umtrunk-2026-12-27@onegov.event
CATEGORIES:
DESCRIPTION:
LAST-MODIFIED:20251027T090126Z
LOCATION:Ganzes Dorf
URL:https://www.besenbueren.ch/event/adventsfenster-rundgang-mit-umtrunk-2
 026-12-27
END:VEVENT
END:VCALENDAR
