BEGIN:VCALENDAR
VERSION:2.0
PRODID:-//OneGov//onegov.event//
BEGIN:VEVENT
SUMMARY:Atemschutzübung 3
DTSTART:20260603T180000Z
DTEND:20260603T200000Z
DTSTAMP:20251103T100638Z
UID:atemschutzuebung-13-2026-06-03@onegov.event
CATEGORIES:
DESCRIPTION:
LAST-MODIFIED:20251103T100638Z
LOCATION:Feuerwehrmagazin
URL:https://www.besenbueren.ch/event/atemschutzuebung-13-2026-06-03
END:VEVENT
END:VCALENDAR
