BEGIN:VCALENDAR
VERSION:2.0
PRODID:-//OneGov//onegov.event//
BEGIN:VEVENT
SUMMARY:Atemschutzübung 4 mit Char Funkdisziplin
DTSTART:20260701T180000Z
DTEND:20260701T200000Z
DTSTAMP:20251103T100831Z
UID:atemschutzuebung-4-mit-char-funkdisziplin-2026-07-01@onegov.event
CATEGORIES:
DESCRIPTION:
LAST-MODIFIED:20251103T100831Z
LOCATION:Feuerwehrmagazin
URL:https://www.besenbueren.ch/event/atemschutzuebung-4-mit-char-funkdiszi
 plin-2026-07-01
END:VEVENT
END:VCALENDAR
