BEGIN:VCALENDAR
VERSION:2.0
PRODID:-//OneGov//onegov.event//
BEGIN:VEVENT
SUMMARY:Basteln für Kinder
DTSTART:20261104T130000Z
DTEND:20261104T153000Z
DTSTAMP:20251027T090147Z
UID:basteln-fuer-kinder-1-2026-11-04@onegov.event
CATEGORIES:
DESCRIPTION:
LAST-MODIFIED:20251027T090147Z
LOCATION:TW-Zimmer Besenbüren
URL:https://www.besenbueren.ch/event/basteln-fuer-kinder-1-2026-11-04
END:VEVENT
END:VCALENDAR
