BEGIN:VCALENDAR
VERSION:2.0
PRODID:-//OneGov//onegov.event//
BEGIN:VEVENT
SUMMARY:Brunch
DTSTART:20260531T070000Z
DTEND:20260531T100000Z
DTSTAMP:20251103T095812Z
UID:brunch-2-2026-05-31@onegov.event
CATEGORIES:
DESCRIPTION:
LAST-MODIFIED:20251103T095812Z
LOCATION:zu bestimmen
URL:https://www.besenbueren.ch/event/brunch-2-2026-05-31
END:VEVENT
END:VCALENDAR
