BEGIN:VCALENDAR
VERSION:2.0
PRODID:-//OneGov//onegov.event//
BEGIN:VEVENT
SUMMARY:Chargiertenübung 2
DTSTART:20260421T180000Z
DTEND:20260421T200000Z
DTSTAMP:20251103T100400Z
UID:chargiertenuebung-11-2026-04-21@onegov.event
CATEGORIES:
DESCRIPTION:
LAST-MODIFIED:20251103T100400Z
LOCATION:Feuerwehrmagazin
URL:https://www.besenbueren.ch/event/chargiertenuebung-11-2026-04-21
END:VEVENT
END:VCALENDAR
