BEGIN:VCALENDAR
VERSION:2.0
PRODID:-//OneGov//onegov.event//
BEGIN:VEVENT
SUMMARY:Chargiertenübung 6
DTSTART:20261014T180000Z
DTEND:20261014T200000Z
DTSTAMP:20251103T101319Z
UID:chargiertenuebung-13-2026-10-14@onegov.event
CATEGORIES:
DESCRIPTION:
LAST-MODIFIED:20251103T101319Z
LOCATION:Feuerwehrmagazin
URL:https://www.besenbueren.ch/event/chargiertenuebung-13-2026-10-14
END:VEVENT
END:VCALENDAR
