BEGIN:VCALENDAR
VERSION:2.0
PRODID:-//OneGov//onegov.event//
BEGIN:VEVENT
SUMMARY:Chilbischiessen
DTSTART:20260927T073000Z
DTEND:20260927T140000Z
DTSTAMP:20251105T081451Z
UID:chilbischiessen-16-2026-09-27@onegov.event
CATEGORIES:
DESCRIPTION:
LAST-MODIFIED:20251105T081451Z
LOCATION:Schützenhaus Rottenschwil
URL:https://www.besenbueren.ch/event/chilbischiessen-16-2026-09-27
END:VEVENT
END:VCALENDAR
