BEGIN:VCALENDAR
VERSION:2.0
PRODID:-//OneGov//onegov.event//
BEGIN:VEVENT
SUMMARY:Chinderfiir mit Basteln
DTSTART:20261024T080000Z
DTEND:20261024T093000Z
DTSTAMP:20251027T090034Z
UID:chinderfiir-mit-basteln-1-2026-10-24@onegov.event
CATEGORIES:Religion
DESCRIPTION:
LAST-MODIFIED:20251027T090034Z
LOCATION:Pfarrkirche Bünzen
URL:https://www.besenbueren.ch/event/chinderfiir-mit-basteln-1-2026-10-24
END:VEVENT
END:VCALENDAR
