BEGIN:VCALENDAR
VERSION:2.0
PRODID:-//OneGov//onegov.event//
BEGIN:VEVENT
SUMMARY:Chlausanlass
DTSTART:20261205T130000Z
DTEND:20261205T170000Z
DTSTAMP:20250917T065249Z
UID:chlausanlass-6-2026-12-05@onegov.event
CATEGORIES:
DESCRIPTION:
LAST-MODIFIED:20250917T065249Z
LOCATION:Waldhaus Breithau
URL:https://www.besenbueren.ch/event/chlausanlass-6-2026-12-05
END:VEVENT
END:VCALENDAR
