BEGIN:VCALENDAR
VERSION:2.0
PRODID:-//OneGov//onegov.event//
BEGIN:VEVENT
SUMMARY:Dank-Andacht Drei König
DTSTART:20260106T140000Z
DTEND:20260106T150000Z
DTSTAMP:20251027T090236Z
UID:dank-andacht-drei-koenig-2-2026-01-06@onegov.event
CATEGORIES:Religion
DESCRIPTION:
LAST-MODIFIED:20251027T090236Z
LOCATION:Grotte 
URL:https://www.besenbueren.ch/event/dank-andacht-drei-koenig-2-2026-01-06
END:VEVENT
END:VCALENDAR
