BEGIN:VCALENDAR
VERSION:2.0
PRODID:-//OneGov//onegov.event//
BEGIN:VEVENT
SUMMARY:Eidg. Dank-\, Buss- und Bettag Gottesdienst mit der Musikgesellsch
 aft Bünzen
DTSTART:20260919T170000Z
DTEND:20260919T180000Z
DTSTAMP:20251027T085013Z
UID:eidg-dank-buss-und-bettag-gottesdienst-mit-der-musikgesellschaft-buenz
 en-2026-09-19@onegov.event
CATEGORIES:Religion
DESCRIPTION:
LAST-MODIFIED:20251027T085013Z
LOCATION:Pfarrkirche Bünzen
URL:https://www.besenbueren.ch/event/eidg-dank-buss-und-bettag-gottesdiens
 t-mit-der-musikgesellschaft-buenzen-2026-09-19
END:VEVENT
END:VCALENDAR
