BEGIN:VCALENDAR
VERSION:2.0
PRODID:-//OneGov//onegov.event//
BEGIN:VEVENT
SUMMARY:Einwohner- und Ortsbürgergemeindeversammlung vom 29. Mai 2026
DTSTART:20260529T173000Z
DTEND:20260529T203000Z
DTSTAMP:20250917T063910Z
UID:einwohner-und-ortsbuergergemeindeversammlung-vom-29-mai-2026-2026-05-2
 9@onegov.event
CATEGORIES:
DESCRIPTION:
LAST-MODIFIED:20250917T063910Z
LOCATION:Foyer
URL:https://www.besenbueren.ch/event/einwohner-und-ortsbuergergemeindevers
 ammlung-vom-29-mai-2026-2026-05-29
END:VEVENT
END:VCALENDAR
