BEGIN:VCALENDAR
VERSION:2.0
PRODID:-//OneGov//onegov.event//
BEGIN:VEVENT
SUMMARY:Einwohnergemeindeversammlung vom 20. November 2026
DTSTART:20261120T183000Z
DTEND:20261120T213000Z
DTSTAMP:20250917T064059Z
UID:einwohnergemeindeversammlung-vom-20-november-2026-2026-11-20@onegov.ev
 ent
CATEGORIES:
DESCRIPTION:
LAST-MODIFIED:20250917T064059Z
LOCATION:Foyer
URL:https://www.besenbueren.ch/event/einwohnergemeindeversammlung-vom-20-n
 ovember-2026-2026-11-20
END:VEVENT
END:VCALENDAR
