BEGIN:VCALENDAR
VERSION:2.0
PRODID:-//OneGov//onegov.event//
BEGIN:VEVENT
SUMMARY:Elisabethenfeier mit z'Morge
DTSTART:20261112T080000Z
DTEND:20261112T093000Z
DTSTAMP:20251027T090142Z
UID:elisabethenfeier-mit-z-morge-1-2026-11-12@onegov.event
CATEGORIES:
DESCRIPTION:
LAST-MODIFIED:20251027T090142Z
LOCATION:Foyer Besenbüren
URL:https://www.besenbueren.ch/event/elisabethenfeier-mit-z-morge-1-2026-1
 1-12
END:VEVENT
END:VCALENDAR
