BEGIN:VCALENDAR
VERSION:2.0
PRODID:-//OneGov//onegov.event//
BEGIN:VEVENT
SUMMARY:Familiengottesdienst am Heilig Abend
DTSTART:20251224T153000Z
DTEND:20251224T163000Z
DTSTAMP:20241025T085800Z
UID:familiengottesdienst-am-heilig-abend-2025-12-24@onegov.event
CATEGORIES:Religion
DESCRIPTION:
LAST-MODIFIED:20241025T085800Z
LOCATION:Pfarrkirche Bünzen
URL:https://www.besenbueren.ch/event/familiengottesdienst-am-heilig-abend-
 2025-12-24
END:VEVENT
END:VCALENDAR
