BEGIN:VCALENDAR
VERSION:2.0
PRODID:-//OneGov//onegov.event//
BEGIN:VEVENT
SUMMARY:Festgottesdienst zu Ostern mit der Musikgesellschaft Bünzen (ansc
 hliessend Eiertütschen)
DTSTART:20260405T083000Z
DTEND:20260405T100000Z
DTSTAMP:20251027T090059Z
UID:festgottesdienst-zu-ostern-mit-der-musikgesellschaft-buenzen-anschlies
 send-eiertuetschen-2026-04-05@onegov.event
CATEGORIES:Religion
DESCRIPTION:
LAST-MODIFIED:20251027T090059Z
LOCATION:Pfarrkirche Bünzen
URL:https://www.besenbueren.ch/event/festgottesdienst-zu-ostern-mit-der-mu
 sikgesellschaft-buenzen-anschliessend-eiertuetschen-2026-04-05
END:VEVENT
END:VCALENDAR
