BEGIN:VCALENDAR
VERSION:2.0
PRODID:-//OneGov//onegov.event//
BEGIN:VEVENT
SUMMARY:Fondueplausch
DTSTART:20251205T100000Z
DTEND:20251205T225900Z
DTSTAMP:20241025T064647Z
UID:fondueplausch-2-2025-12-05@onegov.event
CATEGORIES:Meetup,Gastronomy
DESCRIPTION:Am ersten Dezember Wochenende laden wir von der Jungwacht und 
 vom Blauring Boswil herzlich zum Fondue-Essen ein. Im Foyer des Schulhaus 
 Boswil können Sie eine Vielzahl an Fondue-Variationen geniessen. Zusätzl
 ich ist am Abend unsere Bar geöffnet. Wir freuen uns auf Ihren Besuch.
LAST-MODIFIED:20241025T064647Z
LOCATION:Schulhaus Boswil
URL:https://www.besenbueren.ch/event/fondueplausch-2-2025-12-05
END:VEVENT
END:VCALENDAR
