BEGIN:VCALENDAR
VERSION:2.0
PRODID:-//OneGov//onegov.event//
BEGIN:VEVENT
SUMMARY:Gottesdienst mit Patrozinium Hl. Georg (anschliessend Apéro)
DTSTART:20260426T083000Z
DTEND:20260426T100000Z
DTSTAMP:20251027T090052Z
UID:gottesdienst-mit-patrozinium-hl-georg-anschliessend-apero-2026-04-26@o
 negov.event
CATEGORIES:Religion
DESCRIPTION:
LAST-MODIFIED:20251027T090052Z
LOCATION:Pfarrkirche Bünzen
URL:https://www.besenbueren.ch/event/gottesdienst-mit-patrozinium-hl-georg
 -anschliessend-apero-2026-04-26
END:VEVENT
END:VCALENDAR
