BEGIN:VCALENDAR
VERSION:2.0
PRODID:-//OneGov//onegov.event//
BEGIN:VEVENT
SUMMARY:Höllefäscht
DTSTART:20260731T180000Z
DTEND:20260731T210000Z
DTSTAMP:20251105T122024Z
UID:hoellefaescht-7-2026-07-31@onegov.event
CATEGORIES:
DESCRIPTION:
LAST-MODIFIED:20251105T122024Z
LOCATION:Waldhaus
URL:https://www.besenbueren.ch/event/hoellefaescht-7-2026-07-31
END:VEVENT
END:VCALENDAR
