BEGIN:VCALENDAR
VERSION:2.0
PRODID:-//OneGov//onegov.event//
BEGIN:VEVENT
SUMMARY:Jublatag / Neuaufnahmen
DTSTART:20260912T050000Z
DTEND:20260912T150000Z
DTSTAMP:20251027T090254Z
UID:jublatag-neuaufnahmen-2026-09-12@onegov.event
CATEGORIES:Youth
DESCRIPTION:
LAST-MODIFIED:20251027T090254Z
LOCATION:Pfarrsaal Boswil
URL:https://www.besenbueren.ch/event/jublatag-neuaufnahmen-2026-09-12
END:VEVENT
END:VCALENDAR
