BEGIN:VCALENDAR
VERSION:2.0
PRODID:-//OneGov//onegov.event//
BEGIN:VEVENT
SUMMARY:Jugiturnier
DTSTART:20260703T160000Z
DTEND:20260703T200000Z
DTSTAMP:20251104T072124Z
UID:jugiturnier-3-2026-07-03@onegov.event
CATEGORIES:
DESCRIPTION:
LAST-MODIFIED:20251104T072124Z
LOCATION:Fussballplatz
URL:https://www.besenbueren.ch/event/jugiturnier-3-2026-07-03
END:VEVENT
END:VCALENDAR
