BEGIN:VCALENDAR
VERSION:2.0
PRODID:-//OneGov//onegov.event//
BEGIN:VEVENT
SUMMARY:JWBR Sommerlager 04. – 18. Juli 2026
DTSTART:20260704T060000Z
DTEND:20260704T150000Z
DTSTAMP:20251027T090259Z
UID:jwbr-sommerlager-04-18-juli-2026-2026-07-04@onegov.event
CATEGORIES:Youth
DESCRIPTION:
LAST-MODIFIED:20251027T090259Z
LOCATION:Jaun
URL:https://www.besenbueren.ch/event/jwbr-sommerlager-04-18-juli-2026-2026
 -07-04
END:VEVENT
END:VCALENDAR
