BEGIN:VCALENDAR
VERSION:2.0
PRODID:-//OneGov//onegov.event//
BEGIN:VEVENT
SUMMARY:Kirchgemeindeversammlung
DTSTART:20261110T190000Z
DTEND:20261110T203000Z
DTSTAMP:20251027T090030Z
UID:kirchgemeindeversammlung-6-2026-11-10@onegov.event
CATEGORIES:Religion
DESCRIPTION:
LAST-MODIFIED:20251027T090030Z
LOCATION:Schulhaus Besenbüren
URL:https://www.besenbueren.ch/event/kirchgemeindeversammlung-6-2026-11-10
END:VEVENT
END:VCALENDAR
