BEGIN:VCALENDAR
VERSION:2.0
PRODID:-//OneGov//onegov.event//
BEGIN:VEVENT
SUMMARY:Ländlerobig
DTSTART:20260626T150000Z
DTEND:20260627T000000Z
DTSTAMP:20251027T090206Z
UID:laendlerobig-2-2026-06-26@onegov.event
CATEGORIES:
DESCRIPTION:
LAST-MODIFIED:20251027T090206Z
LOCATION:Schreinerei Moser/ Zentralstr.4
URL:https://www.besenbueren.ch/event/laendlerobig-2-2026-06-26
END:VEVENT
END:VCALENDAR
