BEGIN:VCALENDAR
VERSION:2.0
PRODID:-//OneGov//onegov.event//
BEGIN:VEVENT
SUMMARY:Letzter Schultag vor den Sportferien
DTSTART:20260123T060000Z
DTEND:20260123T160000Z
DTSTAMP:20251022T074451Z
UID:letzter-schultag-vor-den-sportferien-2-2026-01-23@onegov.event
CATEGORIES:Education
DESCRIPTION:
LAST-MODIFIED:20251022T074451Z
LOCATION:Schulen Bünzen und Besenbüren
URL:https://www.besenbueren.ch/event/letzter-schultag-vor-den-sportferien-
 2-2026-01-23
END:VEVENT
END:VCALENDAR
