BEGIN:VCALENDAR
VERSION:2.0
PRODID:-//OneGov//onegov.event//
BEGIN:VEVENT
SUMMARY:Letzter Schultag vor den Weihnachtsferien
DTSTART:20251219T063000Z
DTEND:20251219T160000Z
DTSTAMP:20241022T120152Z
UID:letzter-schultag-vor-den-weihnachtsferien-2025-12-19@onegov.event
CATEGORIES:Education
DESCRIPTION:
LAST-MODIFIED:20241022T120152Z
LOCATION:Schulen Bünzen und Besenbüren
URL:https://www.besenbueren.ch/event/letzter-schultag-vor-den-weihnachtsfe
 rien-2025-12-19
END:VEVENT
END:VCALENDAR
