BEGIN:VCALENDAR
VERSION:2.0
PRODID:-//OneGov//onegov.event//
BEGIN:VEVENT
SUMMARY:Mannschaftsübung 2
DTSTART:20260428T180000Z
DTEND:20260428T200000Z
DTSTAMP:20251103T100433Z
UID:mannschaftsuebung-13-2026-04-28@onegov.event
CATEGORIES:
DESCRIPTION:
LAST-MODIFIED:20251103T100433Z
LOCATION:Feuerwehrmagazin
URL:https://www.besenbueren.ch/event/mannschaftsuebung-13-2026-04-28
END:VEVENT
END:VCALENDAR
