BEGIN:VCALENDAR
VERSION:2.0
PRODID:-//OneGov//onegov.event//
BEGIN:VEVENT
SUMMARY:Mannschaftsübung 5
DTSTART:20260917T180000Z
DTEND:20260917T200000Z
DTSTAMP:20251103T101207Z
UID:mannschaftsuebung-15-2026-09-17@onegov.event
CATEGORIES:
DESCRIPTION:
LAST-MODIFIED:20251103T101207Z
LOCATION:Feuerwehrmagazin
URL:https://www.besenbueren.ch/event/mannschaftsuebung-15-2026-09-17
END:VEVENT
END:VCALENDAR
