BEGIN:VCALENDAR
VERSION:2.0
PRODID:-//OneGov//onegov.event//
BEGIN:VEVENT
SUMMARY:Mannschaftsübung 6 Hauptübung
DTSTART:20261024T130000Z
DTEND:20261024T150000Z
DTSTAMP:20251103T101351Z
UID:mannschaftsuebung-6-hauptuebung-1-2026-10-24@onegov.event
CATEGORIES:
DESCRIPTION:
LAST-MODIFIED:20251103T101351Z
LOCATION:Feuerwehrmagazin
URL:https://www.besenbueren.ch/event/mannschaftsuebung-6-hauptuebung-1-202
 6-10-24
END:VEVENT
END:VCALENDAR
