BEGIN:VCALENDAR
VERSION:2.0
PRODID:-//OneGov//onegov.event//
BEGIN:VEVENT
SUMMARY:Maria Empfängnis (schulfrei)
DTSTART:20251208T063000Z
DTEND:20251208T160000Z
DTSTAMP:20241022T120158Z
UID:maria-empfaengnis-schulfrei-1-2025-12-08@onegov.event
CATEGORIES:Education
DESCRIPTION:
LAST-MODIFIED:20241022T120158Z
LOCATION:Schulen Bünzen und Besenbüren
URL:https://www.besenbueren.ch/event/maria-empfaengnis-schulfrei-1-2025-12
 -08
END:VEVENT
END:VCALENDAR
