BEGIN:VCALENDAR
VERSION:2.0
PRODID:-//OneGov//onegov.event//
BEGIN:VEVENT
SUMMARY:Maschinistenübung 3
DTSTART:20260902T180000Z
DTEND:20260902T200000Z
DTSTAMP:20251103T101121Z
UID:maschinistenuebung-11-2026-09-02@onegov.event
CATEGORIES:
DESCRIPTION:
LAST-MODIFIED:20251103T101121Z
LOCATION:Feuerwehrmagazin
URL:https://www.besenbueren.ch/event/maschinistenuebung-11-2026-09-02
END:VEVENT
END:VCALENDAR
