BEGIN:VCALENDAR
VERSION:2.0
PRODID:-//OneGov//onegov.event//
BEGIN:VEVENT
SUMMARY:Maschinistenübung 4
DTSTART:20261030T190000Z
DTEND:20261030T210000Z
DTSTAMP:20251103T101422Z
UID:maschinistenuebung-12-2026-10-30@onegov.event
CATEGORIES:
DESCRIPTION:
LAST-MODIFIED:20251103T101422Z
LOCATION:Feuerwehrmagazin
URL:https://www.besenbueren.ch/event/maschinistenuebung-12-2026-10-30
END:VEVENT
END:VCALENDAR
