BEGIN:VCALENDAR
VERSION:2.0
PRODID:-//OneGov//onegov.event//
BEGIN:VEVENT
SUMMARY:Monatsübung
DTSTART:20260121T183000Z
DTEND:20260121T203000Z
DTSTAMP:20251103T084745Z
UID:monatsuebung-5-2026-01-21@onegov.event
CATEGORIES:Misc,Health,Meetup
DESCRIPTION:
LAST-MODIFIED:20251103T084745Z
LOCATION:Mehrzweckraum Schulhaus Boswil
URL:https://www.besenbueren.ch/event/monatsuebung-5-2026-01-21
END:VEVENT
END:VCALENDAR
