BEGIN:VCALENDAR
VERSION:2.0
PRODID:-//OneGov//onegov.event//
BEGIN:VEVENT
SUMMARY:Monatsübung
DTSTART:20261021T173000Z
DTEND:20261021T190000Z
DTSTAMP:20251216T074625Z
UID:monatsuebung-6-2026-10-21@onegov.event
CATEGORIES:
DESCRIPTION:
LAST-MODIFIED:20251216T074625Z
LOCATION:Mehrzweckraum Schulhaus Boswil
URL:https://www.besenbueren.ch/event/monatsuebung-6-2026-10-21
END:VEVENT
END:VCALENDAR
