BEGIN:VCALENDAR
VERSION:2.0
PRODID:-//OneGov//onegov.event//
BEGIN:VEVENT
SUMMARY:Neujahrsapéro
DTSTART:20270102T100000Z
DTEND:20270102T130000Z
DTSTAMP:20251201T161928Z
UID:neujahrsapero-7-2027-01-02@onegov.event
CATEGORIES:
DESCRIPTION:
LAST-MODIFIED:20251201T161928Z
LOCATION:Waldhaus Breithau
URL:https://www.besenbueren.ch/event/neujahrsapero-7-2027-01-02
END:VEVENT
END:VCALENDAR
