BEGIN:VCALENDAR
VERSION:2.0
PRODID:-//OneGov//onegov.event//
BEGIN:VEVENT
SUMMARY:Neuzuzügeranlass
DTSTART:20260904T220000Z
DTEND:20260905T220000Z
DTSTAMP:20251201T161826Z
UID:neuzuzuegeranlass-2026-09-05@onegov.event
CATEGORIES:
DESCRIPTION:
LAST-MODIFIED:20251201T161826Z
LOCATION:Waldhaus Breithau
URL:https://www.besenbueren.ch/event/neuzuzuegeranlass-2026-09-05
END:VEVENT
END:VCALENDAR
