BEGIN:VCALENDAR
VERSION:2.0
PRODID:-//OneGov//onegov.event//
BEGIN:VEVENT
SUMMARY:Nistkastenreinigung
DTSTART:20261114T123000Z
DTEND:20261114T160000Z
DTSTAMP:20251103T100053Z
UID:nistkastenreinigung-11-2026-11-14@onegov.event
CATEGORIES:
DESCRIPTION:
LAST-MODIFIED:20251103T100053Z
LOCATION:zu bestimmen
URL:https://www.besenbueren.ch/event/nistkastenreinigung-11-2026-11-14
END:VEVENT
END:VCALENDAR
