BEGIN:VCALENDAR
VERSION:2.0
PRODID:-//OneGov//onegov.event//
BEGIN:VEVENT
SUMMARY:Nistkastenreinigung
DTSTART:20261024T113000Z
DTEND:20261024T150000Z
DTSTAMP:20251103T095936Z
UID:nistkastenreinigung-8-2026-10-24@onegov.event
CATEGORIES:
DESCRIPTION:
LAST-MODIFIED:20251103T095936Z
LOCATION:zu bestimmen
URL:https://www.besenbueren.ch/event/nistkastenreinigung-8-2026-10-24
END:VEVENT
END:VCALENDAR
