BEGIN:VCALENDAR
VERSION:2.0
PRODID:-//OneGov//onegov.event//
BEGIN:VEVENT
SUMMARY:Nistkastenreinigung
DTSTART:20261031T123000Z
DTEND:20261031T160000Z
DTSTAMP:20251103T100005Z
UID:nistkastenreinigung-9-2026-10-31@onegov.event
CATEGORIES:
DESCRIPTION:
LAST-MODIFIED:20251103T100005Z
LOCATION:zu bestimmen
URL:https://www.besenbueren.ch/event/nistkastenreinigung-9-2026-10-31
END:VEVENT
END:VCALENDAR
