BEGIN:VCALENDAR
VERSION:2.0
PRODID:-//OneGov//onegov.event//
BEGIN:VEVENT
SUMMARY:Notfälle bei Kleinkinder Kurs
DTSTART:20251129T070000Z
DTEND:20251129T140000Z
DTSTAMP:20241028T155500Z
UID:notfaelle-bei-kleinkinder-kurs-2-2025-11-29@onegov.event
CATEGORIES:Health,Meetup,Education
DESCRIPTION:
LAST-MODIFIED:20241028T155500Z
LOCATION:Mehrzweckraum Schulhaus Boswil
URL:https://www.besenbueren.ch/event/notfaelle-bei-kleinkinder-kurs-2-2025
 -11-29
END:VEVENT
END:VCALENDAR
