BEGIN:VCALENDAR
VERSION:2.0
PRODID:-//OneGov//onegov.event//
BEGIN:VEVENT
SUMMARY:Notfälle bei Kleinkinder Kurs
DTSTART:20260509T060000Z
DTEND:20260509T130000Z
DTSTAMP:20251103T084724Z
UID:notfaelle-bei-kleinkinder-kurs-3-2026-05-09@onegov.event
CATEGORIES:Misc,Health,Meetup
DESCRIPTION:
LAST-MODIFIED:20251103T084724Z
LOCATION:Mehrzweckraum Schulhaus Boswil
URL:https://www.besenbueren.ch/event/notfaelle-bei-kleinkinder-kurs-3-2026
 -05-09
END:VEVENT
END:VCALENDAR
